BEGIN:VCALENDAR
VERSION:2.0
PRODID:-//Λαϊκη Συσπείρωση Αττικής - ECPv6.15.17.1//NONSGML v1.0//EN
CALSCALE:GREGORIAN
METHOD:PUBLISH
X-ORIGINAL-URL:https://lsattikis.gr
X-WR-CALDESC:Events for Λαϊκη Συσπείρωση Αττικής
REFRESH-INTERVAL;VALUE=DURATION:PT1H
X-Robots-Tag:noindex
X-PUBLISHED-TTL:PT1H
BEGIN:VTIMEZONE
TZID:Europe/Moscow
BEGIN:STANDARD
TZOFFSETFROM:+0300
TZOFFSETTO:+0300
TZNAME:MSK
DTSTART:20220101T000000
END:STANDARD
END:VTIMEZONE
BEGIN:VEVENT
DTSTART;TZID=Europe/Moscow:20231006T193000
DTEND;TZID=Europe/Moscow:20231006T193000
DTSTAMP:20260421T133942
CREATED:20231003T212001Z
LAST-MODIFIED:20231003T212001Z
UID:4670-1696620600-1696620600@lsattikis.gr
SUMMARY:Ομιλια στη συγκέντρωση της Λαϊκής Συσπείρωσης» Πετρούπολης
DESCRIPTION:Στις 7.30 μ.μ.\, ο Γιάννης Πρωτούλης θα μιλήσει σε συγκέντρωση της «Λαϊκής Συσπείρωσης» Πετρούπολης\, στο Δημαρχείο (Κ. Βάρναλη 76-78).
URL:https://lsattikis.gr/event/%ce%bf%ce%bc%ce%b9%ce%bb%ce%b9%ce%b1-%cf%83%cf%84%ce%b7-%cf%83%cf%85%ce%b3%ce%ba%ce%ad%ce%bd%cf%84%cf%81%cf%89%cf%83%ce%b7-%cf%84%ce%b7%cf%82-%ce%bb%ce%b1%cf%8a%ce%ba%ce%ae%cf%82-%cf%83%cf%85%cf%83-2/
LOCATION:Πετρούπολη\, Δημαρχείο (Κ. Βάρναλη 76-78)\, Πετρούπολη
CATEGORIES:Συγκεντρώσεις
ATTACH;FMTTYPE=image/jpeg:https://lsattikis.gr/wp-content/uploads/2023/09/ekd_protoylis-13.jpg
END:VEVENT
BEGIN:VEVENT
DTSTART;TZID=Europe/Moscow:20231005T193000
DTEND;TZID=Europe/Moscow:20231005T193000
DTSTAMP:20260421T133942
CREATED:20231003T211646Z
LAST-MODIFIED:20231003T211646Z
UID:4665-1696534200-1696534200@lsattikis.gr
SUMMARY:Ομιλια στη συγκέντρωση της Λαϊκής Συσπείρωσης Καισαριανής
DESCRIPTION:Στις 7.30 μ.μ.\, ο Γιάννης Πρωτούλης θα μιλήσει σε συγκέντρωση της «Λαϊκής Συσπείρωσης» Καισαριανής\, στην πλατεία Δημάρχου Παναγιώτη Μακρή. Θα μιλήσει και ο Ηλίας Σταμέλος\, υποψήφιος Δήμαρχος Καισαριανής. Στην ίδια εκδήλωση χαιρετισμό θα απευθύνει ο ΓΓ της ΚΕ του ΚΚΕ\, Δημήτρης Κουτσούμπας.
URL:https://lsattikis.gr/event/%ce%bf%ce%bc%ce%b9%ce%bb%ce%b9%ce%b1-%cf%83%cf%84%ce%b7-%cf%83%cf%85%ce%b3%ce%ba%ce%ad%ce%bd%cf%84%cf%81%cf%89%cf%83%ce%b7-%cf%84%ce%b7%cf%82-%ce%bb%ce%b1%cf%8a%ce%ba%ce%ae%cf%82-%cf%83%cf%85%cf%83/
LOCATION:Καισαριανή\, πλατεία Δημάρχου Παναγιώτη Μακρή\, Καισαριανή
CATEGORIES:Συγκεντρώσεις
ATTACH;FMTTYPE=image/jpeg:https://lsattikis.gr/wp-content/uploads/2023/09/3h_mera-sygkentrosi-protoulis-03.jpg
END:VEVENT
BEGIN:VEVENT
DTSTART;TZID=Europe/Moscow:20231004T200000
DTEND;TZID=Europe/Moscow:20231004T200000
DTSTAMP:20260421T133942
CREATED:20231003T211316Z
LAST-MODIFIED:20231003T211316Z
UID:4659-1696449600-1696449600@lsattikis.gr
SUMMARY:Ομιλία στη συγκέντρωση της Λαϊκής Συσπείρωσης Νίκαιας - Αγίου Ιωάννη Ρέντη
DESCRIPTION:Στις 8.00 μ.μ.\, ο Γιάννης Πρωτούλης θα μιλήσει σε συγκέντρωση της «Λαϊκής Συσπείρωσης» Νίκαιας – Αγίου Ιωάννη Ρέντη\, στη Νίκαια\, στην Πλατεία Δαβάκη (Περιβολάκι). Θα μιλήσει και ο Παναγιώτης Κατηφές\, υποψήφιος Δήμαρχος Νίκαιας – Αγίου Ιωάννη Ρέντη. Στην ίδια εκδήλωση χαιρετισμό θα απευθύνει ο ΓΓ της ΚΕ του ΚΚΕ\, Δημήτρης Κουτσούμπας
URL:https://lsattikis.gr/event/%ce%bf%ce%bc%ce%b9%ce%bb%ce%af%ce%b1-%cf%83%cf%84%ce%b7-%cf%83%cf%85%ce%b3%ce%ba%ce%ad%ce%bd%cf%84%cf%81%cf%89%cf%83%ce%b7-%cf%84%ce%b7%cf%82-%ce%bb%ce%b1%cf%8a%ce%ba%ce%ae%cf%82-%cf%83%cf%85%cf%83/
LOCATION:Νίκαια\, Πλατεία Δαβάκη (Περιβολάκι)\, Νίκαια
CATEGORIES:Συγκεντρώσεις
ATTACH;FMTTYPE=image/jpeg:https://lsattikis.gr/wp-content/uploads/2023/09/protoylis_aspropyrgos_19.jpg
END:VEVENT
BEGIN:VEVENT
DTSTART;TZID=Europe/Moscow:20231002T190000
DTEND;TZID=Europe/Moscow:20231002T190000
DTSTAMP:20260421T133942
CREATED:20231002T052749Z
LAST-MODIFIED:20231002T052749Z
UID:4628-1696273200-1696273200@lsattikis.gr
SUMMARY:Ο Γιάννης Πρωτούλης θα μιλήσει σε εκδήλωση για τους ελεύθερους επαγγελματίες
DESCRIPTION:Στις 7.00 μ.μ.\, θα μιλήσει σε εκδήλωση της «Λαϊκής Συσπείρωσης»\, στην αίθουσα της Πανηπειρωτικής Συνομοσπονδίας Ελλάδας (Κλεισθένους 15\, Αθήνα)\, με θέμα: «Οι διεκδικήσεις της «Λαϊκής Συσπείρωσης» για τους ελευθέρους επαγγελματίες και τις πολύ μικρές επιχειρήσεις».
URL:https://lsattikis.gr/event/%ce%bf-%ce%b3%ce%b9%ce%ac%ce%bd%ce%bd%ce%b7%cf%82-%cf%80%cf%81%cf%89%cf%84%ce%bf%cf%8d%ce%bb%ce%b7%cf%82-%ce%b8%ce%b1-%ce%bc%ce%b9%ce%bb%ce%ae%cf%83%ce%b5%ce%b9-%cf%83%ce%b5-%ce%b5%ce%ba%ce%b4%ce%ae/
LOCATION:Πανηπειρωτική Συνομοσπονδία Ελλάδας\, Κλεισθένους 15\, Αθήνα
CATEGORIES:Συγκεντρώσεις
ATTACH;FMTTYPE=image/jpeg:https://lsattikis.gr/wp-content/uploads/2023/09/protoylis_aspropyrgos_19.jpg
END:VEVENT
BEGIN:VEVENT
DTSTART;TZID=Europe/Moscow:20231001T193000
DTEND;TZID=Europe/Moscow:20231001T193000
DTSTAMP:20260421T133942
CREATED:20230930T085155Z
LAST-MODIFIED:20230930T085155Z
UID:4612-1696188600-1696188600@lsattikis.gr
SUMMARY:Ο Γιάννης Πρωτούλης θα μιλήσει σε συγκέντρωση της Λαϊκής Συσπείρωση» Βύρωνα
DESCRIPTION:Στις 7.30 μ.μ.\, θα μιλήσει σε συγκέντρωση της «Λαϊκής Συσπείρωσης» Βύρωνα\, στην πλατεία Εθνικής Αντίστασης (πρώην Ταπητουργείου).
URL:https://lsattikis.gr/event/%ce%bf-%ce%b3%ce%b9%ce%ac%ce%bd%ce%bd%ce%b7%cf%82-%cf%80%cf%81%cf%89%cf%84%ce%bf%cf%8d%ce%bb%ce%b7%cf%82-%ce%b8%ce%b1-%ce%bc%ce%b9%ce%bb%ce%ae%cf%83%ce%b5%ce%b9-%cf%83%ce%b5-%cf%83%cf%85%ce%b3%ce%ba-3/
LOCATION:Βύρωνας\, Πλατεία Εθνικής Αντίστασης (πρώην Ταπητουργείου)\, Βύρωνας
CATEGORIES:Συγκεντρώσεις
ATTACH;FMTTYPE=image/jpeg:https://lsattikis.gr/wp-content/uploads/2023/09/laiki_09.jpg
END:VEVENT
BEGIN:VEVENT
DTSTART;TZID=Europe/Moscow:20231001T110000
DTEND;TZID=Europe/Moscow:20231001T110000
DTSTAMP:20260421T133942
CREATED:20230930T084942Z
LAST-MODIFIED:20230930T084942Z
UID:4609-1696158000-1696158000@lsattikis.gr
SUMMARY:Ο Γιάννης Πρωτούλης θα θα μιλήσει σε εκδήλωση της Λαϊκής Συσπείρωση» Φυλής με θέμα: «Τα μεγάλα λόγια για Φυλή -Αράχοβα της Αττικής\, έγιναν στάχτη»\,
DESCRIPTION:Στις 11 π.μ.\, θα μιλήσει σε εκδήλωση της «Λαϊκής Συσπείρωσης» Φυλής με θέμα: «Τα μεγάλα λόγια για Φυλή -Αράχοβα της Αττικής\, έγιναν στάχτη»\, στην πλατεία Δημαρχείου Φυλής.
URL:https://lsattikis.gr/event/%ce%bf-%ce%b3%ce%b9%ce%ac%ce%bd%ce%bd%ce%b7%cf%82-%cf%80%cf%81%cf%89%cf%84%ce%bf%cf%8d%ce%bb%ce%b7%cf%82-%ce%b8%ce%b1-%ce%b8%ce%b1-%ce%bc%ce%b9%ce%bb%ce%ae%cf%83%ce%b5%ce%b9-%cf%83%ce%b5-%ce%b5%ce%ba/
LOCATION:Φυλή\, Πλατεία Δημαρχείου Φυλής\, Φυλή
CATEGORIES:Συγκεντρώσεις
ATTACH;FMTTYPE=image/jpeg:https://lsattikis.gr/wp-content/uploads/2023/09/3h_mera-sygkentrosi-protoulis-03.jpg
END:VEVENT
BEGIN:VEVENT
DTSTART;TZID=Europe/Moscow:20230930T190000
DTEND;TZID=Europe/Moscow:20230930T190000
DTSTAMP:20260421T133942
CREATED:20230930T084718Z
LAST-MODIFIED:20230930T084951Z
UID:4606-1696100400-1696100400@lsattikis.gr
SUMMARY:Ο Γιάννης Πρωτούλης θα μιλήσει σε συγκέντρωση της Λαϊκής Συσπείρωσης Νέας Ιωνίας. Χαιρετισμό θα απευθύνει ο ΓΓ της ΚΕ του ΚΚΕ\, Δημήτρης Κουτσούμπας
DESCRIPTION:Στις 7.00 μ.μ.\, θα μιλήσει σε συγκέντρωση της «Λαϊκής Συσπείρωσης» Νέας Ιωνίας\, στον πεζόδρομο της Παλαιών Πατρών Γερμανού. Στην ίδια εκδήλωση χαιρετισμό θα απευθύνει ο ΓΓ της ΚΕ του ΚΚΕ\, Δημήτρης Κουτσούμπας.
URL:https://lsattikis.gr/event/%ce%bf-%ce%b3%ce%b9%ce%ac%ce%bd%ce%bd%ce%b7%cf%82-%cf%80%cf%81%cf%89%cf%84%ce%bf%cf%8d%ce%bb%ce%b7%cf%82-%ce%b8%ce%b1-%ce%bc%ce%b9%ce%bb%ce%ae%cf%83%ce%b5%ce%b9-%cf%83%ce%b5-%cf%83%cf%85%ce%b3%ce%ba-2/
LOCATION:Νέα Ιωνία\, Πεζόδρομος της Παλαιών Πατρών Γερμανού\, Νέα Ιωνία
CATEGORIES:Συγκεντρώσεις
ATTACH;FMTTYPE=image/jpeg:https://lsattikis.gr/wp-content/uploads/2023/09/ls_aigaleo-06.jpg
END:VEVENT
BEGIN:VEVENT
DTSTART;TZID=Europe/Moscow:20230927T193000
DTEND;TZID=Europe/Moscow:20230927T193000
DTSTAMP:20260421T133942
CREATED:20230925T222927Z
LAST-MODIFIED:20230925T223735Z
UID:4450-1695843000-1695843000@lsattikis.gr
SUMMARY:Ο Γιάννης Πρωτούλης θα μιλήσει στην εκδήλωση της Λαϊκής Συσπείρωσης Ασπροπύργου με θέμα «Το περιβαλλοντικό έγκλημα στη Δυτική Αττική συνεχίζεται. Τώρα λαϊκή συσπείρωση και παρέμβαση ...Για την προστασία της υγείας και της ζωής ...Για σχεδιασμό διαχείρισης των απορριμμάτων για τις ανάγκες του λαού»
DESCRIPTION:Στις 7.30 μ.μ. θα μιλήσει στην εκδήλωση της «Λαϊκής Συσπείρωσης» Ασπροπύργου\, στο Πνευματικό Κέντρο (Αλέκου Παναγούλη 13)\,  με θέμα «Το περιβαλλοντικό έγκλημα στη Δυτική Αττική συνεχίζεται. Τώρα λαϊκή συσπείρωση και παρέμβαση …Για την προστασία της υγείας και της ζωής …Για σχεδιασμό διαχείρισης των απορριμμάτων για τις ανάγκες του λαού».
URL:https://lsattikis.gr/event/%ce%bf-%ce%b3%ce%b9%ce%ac%ce%bd%ce%bd%ce%b7%cf%82-%cf%80%cf%81%cf%89%cf%84%ce%bf%cf%8d%ce%bb%ce%b7%cf%82-%ce%b8%ce%b1-%ce%bc%ce%b9%ce%bb%ce%ae%cf%83%ce%b5%ce%b9-%cf%83%cf%84%ce%b7%ce%bd-%ce%b5%ce%ba/
LOCATION:Πνευματικό Κέντρο\, Αλέκου Παναγούλη 13\, Ασπρόπυργος
CATEGORIES:Συγκεντρώσεις
ATTACH;FMTTYPE=image/jpeg:https://lsattikis.gr/wp-content/uploads/2023/09/laiki_09.jpg
END:VEVENT
BEGIN:VEVENT
DTSTART;TZID=Europe/Moscow:20230926T180000
DTEND;TZID=Europe/Moscow:20230926T180000
DTSTAMP:20260421T133942
CREATED:20230925T222511Z
LAST-MODIFIED:20230925T222511Z
UID:4444-1695751200-1695751200@lsattikis.gr
SUMMARY:O Γιάννης Πρωτούλης θα περιοδεύσει στην κεντρική αγορά του Μοσχάτου και θα χαιρετίσει στο εκλογικό περίπτερο της Λαϊκής Συσπείρωσης Μοσχάτου – Ταύρου
DESCRIPTION:Στις 6 μ.μ. θα περιοδεύσει στην κεντρική αγορά του Μοσχάτου και θα χαιρετίσει στο εκλογικό περίπτερο της «Λαϊκής Συσπείρωσης» Μοσχάτου – Ταύρου.
URL:https://lsattikis.gr/event/o-%ce%b3%ce%b9%ce%ac%ce%bd%ce%bd%ce%b7%cf%82-%cf%80%cf%81%cf%89%cf%84%ce%bf%cf%8d%ce%bb%ce%b7%cf%82-%ce%b8%ce%b1-%cf%80%ce%b5%cf%81%ce%b9%ce%bf%ce%b4%ce%b5%cf%8d%cf%83%ce%b5%ce%b9-%cf%83%cf%84%ce%b7/
LOCATION:Κεντρική αγορά του Μοσχάτο\, Μοσχάτο
CATEGORIES:Περιοδείες,Συγκεντρώσεις
ATTACH;FMTTYPE=image/jpeg:https://lsattikis.gr/wp-content/uploads/2023/09/protoylis_periodeia_04.jpg
END:VEVENT
BEGIN:VEVENT
DTSTART;TZID=Europe/Moscow:20230924T183000
DTEND;TZID=Europe/Moscow:20230924T183000
DTSTAMP:20260421T133942
CREATED:20230924T082722Z
LAST-MODIFIED:20230924T082722Z
UID:4327-1695580200-1695580200@lsattikis.gr
SUMMARY:Παρέμβαση του Γιάννη Πρωτούλη σε εκδήλωση με θέμα «Οι σύγχρονες ανάγκες των παιδιών μας δεν μπορούν να περιμένουν»
DESCRIPTION:Στις 6.30 μ.μ.\, θα παρέμβει σε εκδήλωση με θέμα «Οι σύγχρονες ανάγκες των παιδιών μας δεν μπορούν να περιμένουν»\, για σύγχρονα και ασφαλή σχολεία για όλα τα παιδιά\, στο Αιγάλεω Πλατεία Ηρώων Πολυτεχνείου (έναντι Πλατείας Δαβάκη). Θα μιλήσει ο Νίκος Καραγιάννης\, υποψήφιος Δήμαρχος Αιγάλεω.
URL:https://lsattikis.gr/event/%cf%80%ce%b1%cf%81%ce%ad%ce%bc%ce%b2%ce%b1%cf%83%ce%b7-%cf%84%ce%bf%cf%85-%ce%b3%ce%b9%ce%ac%ce%bd%ce%bd%ce%b7-%cf%80%cf%81%cf%89%cf%84%ce%bf%cf%8d%ce%bb%ce%b7-%cf%83%ce%b5-%ce%b5%ce%ba%ce%b4%ce%ae/
LOCATION:Αιγάλεω\, Πλατεία Ηρώων Πολυτεχνείου\, Αιγάλεω\, Ελλάδα
CATEGORIES:Συγκεντρώσεις
ATTACH;FMTTYPE=image/jpeg:https://lsattikis.gr/wp-content/uploads/2023/09/laiki_24.jpg
END:VEVENT
BEGIN:VEVENT
DTSTART;TZID=Europe/Moscow:20230922T193000
DTEND;TZID=Europe/Moscow:20230922T193000
DTSTAMP:20260421T133942
CREATED:20230919T184626Z
LAST-MODIFIED:20230919T184701Z
UID:4130-1695411000-1695411000@lsattikis.gr
SUMMARY:49 Φεστιβάλ ΚΝΕ – Οδηγητή: Παρέμβαση του Γιάννη Πρωτούλη στην κεντρική συζήτηση: Λαϊκή Συσπείρωση για τις ανάγκες των πολλών και όχι για τα κέρδη των λίγων.
DESCRIPTION:Την Παρασκευή 22/9\, στις 19.30 θα πραγματοποιηθεί η κεντρική συζήτηση του Φεστιβάλ\, στην Λαϊκή Σκηνή με τίτλο «“Λαϊκή Συσπείρωση” για τις ανάγκες των πολλών και όχι για τα κέρδη των λίγων». \nΜπροστά στις περιφερειακές και δημοτικές εκλογές στις 8 Οκτώβρη\, τον λόγο παίρνουν στην κεντρική συζήτηση του Φεστιβάλ ο Γιάννης Πρωτούλης\, μέλος του ΠΓ της ΚΕ του ΚΚΕ και υποψήφιος Περιφερειάρχης Αττικής με τη “Λαϊκή Συσπείρωση” και ο Νίκος Σοφιανός\, μέλος του ΠΓ της ΚΕ του ΚΚΕ και υποψήφιος δήμαρχος Αθήνας με τη “Λαϊκή Συσπείρωση”.
URL:https://lsattikis.gr/event/49o-%cf%86%ce%b5%cf%83%cf%84%ce%b9%ce%b2%ce%ac%ce%bb-%ce%ba%ce%bd%ce%b5-%ce%bf%ce%b4%ce%b7%ce%b3%ce%b7%cf%84%ce%ae-%cf%80%ce%b1%cf%81%ce%ad%ce%bc%ce%b2%ce%b1%cf%83%ce%b7-%cf%84%ce%bf%cf%85/
LOCATION:Πάρκο Τρίτση
CATEGORIES:Συγκεντρώσεις
ATTACH;FMTTYPE=image/jpeg:https://lsattikis.gr/wp-content/uploads/2023/09/festival-kne-odigiti.jpg
END:VEVENT
BEGIN:VEVENT
DTSTART;TZID=Europe/Moscow:20230920T190000
DTEND;TZID=Europe/Moscow:20230920T190000
DTSTAMP:20260421T133942
CREATED:20230918T230846Z
LAST-MODIFIED:20230918T230846Z
UID:4075-1695236400-1695236400@lsattikis.gr
SUMMARY:Ο Γιάννης Πρωτούλης θα μιλήσει σε συγκέντρωση και παρουσίαση του ψηφοδελτίου της «Λαϊκής Συσπείρωσης» Αχαρνών
DESCRIPTION:Στις 7 μ.μ.\, θα μιλήσει σε συγκέντρωση και παρουσίαση του ψηφοδελτίου της «Λαϊκής Συσπείρωσης» Αχαρνών με υποψήφιο δήμαρχο τον Βασίλη Τοπαλιανίδη στην αίθουσα εκδηλώσεων «Μάριος Σουλούκος»
URL:https://lsattikis.gr/event/%ce%bf-%ce%b3%ce%b9%ce%ac%ce%bd%ce%bd%ce%b7%cf%82-%cf%80%cf%81%cf%89%cf%84%ce%bf%cf%8d%ce%bb%ce%b7%cf%82-%ce%b8%ce%b1-%ce%bc%ce%b9%ce%bb%ce%ae%cf%83%ce%b5%ce%b9-%cf%83%ce%b5-%cf%83%cf%85%ce%b3%ce%ba/
LOCATION:Αίθουσα εκδηλώσεων «Μάριος Σουλούκος
CATEGORIES:Συγκεντρώσεις
ATTACH;FMTTYPE=image/jpeg:https://lsattikis.gr/wp-content/uploads/2023/09/ekd_protoylis-13.jpg
END:VEVENT
BEGIN:VEVENT
DTSTART;TZID=Europe/Moscow:20230918T193000
DTEND;TZID=Europe/Moscow:20230918T193000
DTSTAMP:20260421T133942
CREATED:20230916T110120Z
LAST-MODIFIED:20230916T110120Z
UID:3927-1695065400-1695065400@lsattikis.gr
SUMMARY:Ομιλία του Γιάννη Πρωτούλη σε εκδήλωση για την Τοπική Διοίκηση και τις εργασιακές σχέσεις
DESCRIPTION:Στις 7.30 μ.μ.\, θα μιλήσει σε εκδήλωση για την Τοπική Διοίκηση και τις εργασιακές σχέσεις\, στο Πνευματικό Κέντρο Δήμου Αθήνας (Ακαδημίας 50)\, που διοργανώνει η ΤΟ Κεντρικής\, Περιφερειακής και Τοπικής Διοίκησης της ΚΟ Αττικής του ΚΚΕ
URL:https://lsattikis.gr/event/%ce%bf%ce%bc%ce%b9%ce%bb%ce%af%ce%b1-%cf%84%ce%bf%cf%85-%ce%b3%ce%b9%ce%ac%ce%bd%ce%bd%ce%b7-%cf%80%cf%81%cf%89%cf%84%ce%bf%cf%8d%ce%bb%ce%b7-%cf%83%ce%b5-%ce%b5%ce%ba%ce%b4%ce%ae%ce%bb%cf%89%cf%83/
LOCATION:Πνευματικό Κέντρο του Δήμου Αθηναίων — Αμφιθέατρο «Α. Τρίτσης»\, Ακαδημίας 50\, είσοδος και από την οδό Σόλωνος\, Αθήνα\, Αττική\, Ελλάδα
CATEGORIES:Συγκεντρώσεις
ATTACH;FMTTYPE=image/jpeg:https://lsattikis.gr/wp-content/uploads/2023/07/2.jpg
END:VEVENT
BEGIN:VEVENT
DTSTART;TZID=Europe/Moscow:20230918T173000
DTEND;TZID=Europe/Moscow:20230918T173000
DTSTAMP:20260421T133942
CREATED:20230916T105839Z
LAST-MODIFIED:20230916T105839Z
UID:3924-1695058200-1695058200@lsattikis.gr
SUMMARY:Ο Γιάννης Πρωτούλης θα παρευρεθεί στη συγκέντρωση που θα γίνει στο Κερατσίνι\, στο μνημείο του Παύλου Φύσσα.
DESCRIPTION:Στις 5.30 μ.μ.\, θα παρευρεθεί στη συγκέντρωση που θα γίνει στο Κερατσίνι\, στο μνημείο του Παύλου Φύσσα.
URL:https://lsattikis.gr/event/%ce%bf-%ce%b3%ce%b9%ce%ac%ce%bd%ce%bd%ce%b7%cf%82-%cf%80%cf%81%cf%89%cf%84%ce%bf%cf%8d%ce%bb%ce%b7%cf%82-%ce%b8%ce%b1-%cf%80%ce%b1%cf%81%ce%b5%cf%85%cf%81%ce%b5%ce%b8%ce%b5%ce%af-%cf%83%cf%84%ce%b7-2/
LOCATION:Παύλου Φύσσα\, Κερατσίνι
CATEGORIES:Συγκεντρώσεις
END:VEVENT
BEGIN:VEVENT
DTSTART;TZID=Europe/Moscow:20230917T190000
DTEND;TZID=Europe/Moscow:20230917T190000
DTSTAMP:20260421T133942
CREATED:20230916T105525Z
LAST-MODIFIED:20230916T105525Z
UID:3919-1694977200-1694977200@lsattikis.gr
SUMMARY:Ο Γιάννης Πρωτούλης θα παρευρεθεί στη συναυλία προς τιμή του Παύλου Φύσσα στο χώρο των πρώην Λιπασμάτων Δραπετσώνας
DESCRIPTION:Στις 7 μ.μ.\, θα παρευρεθεί στη συναυλία προς τιμή του Παύλου Φύσσα στο χώρο των πρώην Λιπασμάτων Δραπετσώνας.
URL:https://lsattikis.gr/event/%ce%bf-%ce%b3%ce%b9%ce%ac%ce%bd%ce%bd%ce%b7%cf%82-%cf%80%cf%81%cf%89%cf%84%ce%bf%cf%8d%ce%bb%ce%b7%cf%82-%ce%b8%ce%b1-%cf%80%ce%b1%cf%81%ce%b5%cf%85%cf%81%ce%b5%ce%b8%ce%b5%ce%af-%cf%83%cf%84%ce%b7/
LOCATION:Λιπάσματα Δραπετσώνας
CATEGORIES:Συγκεντρώσεις
ATTACH;FMTTYPE=image/jpeg:https://lsattikis.gr/wp-content/uploads/2023/09/protoulis-2.jpg
END:VEVENT
BEGIN:VEVENT
DTSTART;TZID=Europe/Moscow:20230916T123000
DTEND;TZID=Europe/Moscow:20230916T123000
DTSTAMP:20260421T133942
CREATED:20230914T115118Z
LAST-MODIFIED:20230914T203055Z
UID:3809-1694867400-1694867400@lsattikis.gr
SUMMARY:Εγκαίνια του προεκλογικού περιπτέρου της Λαϊκής Συσπείρωσης στο Σύνταγμα
DESCRIPTION:Τα εγκαίνια του κεντρικού προεκλογικού περιπτέρου της «Λαϊκής Συσπείρωσης» στο κέντρο της Αθήνας θα γίνουν το Σάββατο 16 Σεπτέμβρη\, στο Σύνταγμα (Φιλελλήνων και Ερμού)\, στις 12.30 το μεσημέρι. \nΣτα εγκαίνια θα παραβρεθούν και θα χαιρετίσουν ο Γιάννης Πρωτούλης υποψήφιος Περιφερειάρχης Αττικής και ο Νίκος Σοφιανός υποψήφιος δήμαρχος Αθήνας.
URL:https://lsattikis.gr/event/%ce%b5%ce%b3%ce%ba%ce%b1%ce%af%ce%bd%ce%b9%ce%b1-%ce%b5%ce%ba%ce%bb%ce%bf%ce%b3%ce%b9%ce%ba%ce%bf%cf%8d-%cf%80%ce%b5%cf%81%ce%b9%cf%80%cf%84%ce%ad%cf%81%ce%bf%cf%85-%cf%83%cf%84%ce%bf-%cf%83%cf%8d/
CATEGORIES:Συγκεντρώσεις
ATTACH;FMTTYPE=image/jpeg:https://lsattikis.gr/wp-content/uploads/2023/09/afisa.jpg
END:VEVENT
BEGIN:VEVENT
DTSTART;TZID=Europe/Moscow:20230914T190000
DTEND;TZID=Europe/Moscow:20230914T190000
DTSTAMP:20260421T133942
CREATED:20230912T223755Z
LAST-MODIFIED:20230912T223755Z
UID:3698-1694718000-1694718000@lsattikis.gr
SUMMARY:Ο Γιάννης Πρωτουλης στην κινητοποίηση εργατικών σωματείων και φορέων Κερατσινίου- Δραπετσώνας για τα Καζάνια
DESCRIPTION:Στις 7 μ.μ.\, θα παραβρεθεί σε κινητοποίηση εργατικών σωματείων και φορέων Κερατσινίου- Δραπετσώνας για τα Καζάνια.
URL:https://lsattikis.gr/event/%ce%bf-%ce%b3%ce%b9%ce%ac%ce%bd%ce%bd%ce%b7%cf%82-%cf%80%cf%81%cf%89%cf%84%ce%bf%cf%85%ce%bb%ce%b7%cf%82-%cf%83%cf%84%ce%b7%ce%bd-%ce%ba%ce%b9%ce%bd%ce%b7%cf%84%ce%bf%cf%80%ce%bf%ce%af%ce%b7%cf%83/
LOCATION:Δραπετσώνα
CATEGORIES:Συγκεντρώσεις
END:VEVENT
BEGIN:VEVENT
DTSTART;TZID=Europe/Moscow:20230908T200000
DTEND;TZID=Europe/Moscow:20230908T200000
DTSTAMP:20260421T133942
CREATED:20230905T122904Z
LAST-MODIFIED:20230906T210738Z
UID:2789-1694203200-1694203200@lsattikis.gr
SUMMARY:Ο Γ.Πρωτούλης στην παρουσίαση του ψηφοδελτίου της Λαϊκής Συσπείρωσης Πειραιά
DESCRIPTION:Παρασκευή 8 Σεπτεμβρίου στις 8 μ.μ. θα γίνει η παρουσίαση του ψηφοδελτίου της «Λαϊκής Συσπείρωσης» Πειραιά\, με υποψήφιο δήμαρχο τον Νίκο Αμπατιέλο\, στον Πειραϊκό Σύνδεσμο Πειραιά (Καραΐσκου 104). Στην εκδήλωση θα παρευρεθεί ο επικεφαλής του ψηφοδελτίου της «Λαϊκής Συσπείρωσης» Αττικής και υποψήφιος περιφερειάρχης Γιάννης Πρωτούλης.
URL:https://lsattikis.gr/event/%ce%bf-%ce%b3-%cf%80%cf%81%cf%89%cf%84%ce%bf%cf%8d%ce%bb%ce%b7%cf%82-%cf%83%cf%84%ce%b7%ce%bd-%cf%80%ce%b1%cf%81%ce%bf%cf%85%cf%83%ce%af%ce%b1%cf%83%ce%b7-%cf%84%ce%bf%cf%85-%cf%88%ce%b7%cf%86%ce%bf/
LOCATION:Πειραϊκός Σύνδεσμος\, Καραΐσκου 104\, Πειραιάς\, Πειραιάς\, Ελλάδα
CATEGORIES:Συγκεντρώσεις
ATTACH;FMTTYPE=image/webp:https://lsattikis.gr/wp-content/uploads/2023/09/1059954.webp
END:VEVENT
BEGIN:VEVENT
DTSTART;TZID=Europe/Moscow:20230904T193000
DTEND;TZID=Europe/Moscow:20230904T193000
DTSTAMP:20260421T133942
CREATED:20230901T192625Z
LAST-MODIFIED:20230902T224054Z
UID:2343-1693855800-1693855800@lsattikis.gr
SUMMARY:Ο Γιάννης Πρωτούλης στη σύσκεψη του ψηφοδελτίου της Λαϊκής Συσπείρωσης Νέας Ιωνίας
DESCRIPTION:Την Δευτέρα 4 Σεπτέμβρη\, στις 10.30 π.μ. θα πραγματοποιήσει περιοδεία στα σχολεία του δήμου Πετρούπολης και στις 3 μ.μ. θα δώσει συνέντευξη στο τηλεοπτικό σταθμό «ΑΤΤΙCA». Το απόγευμα στις 7.30 μ.μ. θα παρευρεθεί στη σύσκεψη του ψηφοδελτίου της «Λαϊκής Συσπείρωσης» Δήμου Ν.Ιωνίας.
URL:https://lsattikis.gr/event/%ce%bf-%ce%b3%ce%b9%ce%ac%ce%bd%ce%bd%ce%b7%cf%82-%cf%80%cf%81%cf%89%cf%84%ce%bf%cf%8d%ce%bb%ce%b7%cf%82-%cf%83%cf%84%ce%b7-%cf%83%cf%8d%cf%83%ce%ba%ce%b5%cf%88%ce%b7-%cf%84%ce%bf%cf%85-%cf%88%ce%b7/
LOCATION:Νέα Ιωνία\, Πεζόδρομος της Παλαιών Πατρών Γερμανού\, Νέα Ιωνία
CATEGORIES:Συγκεντρώσεις
ATTACH;FMTTYPE=image/jpeg:https://lsattikis.gr/wp-content/uploads/2023/09/laiki-sispirosi.jpg
END:VEVENT
BEGIN:VEVENT
DTSTART;TZID=Europe/Moscow:20230903T190000
DTEND;TZID=Europe/Moscow:20230903T190000
DTSTAMP:20260421T133942
CREATED:20230901T191532Z
LAST-MODIFIED:20230902T224109Z
UID:2331-1693767600-1693767600@lsattikis.gr
SUMMARY:Ο Γιάννης Πρωτούλης στην παρουσίαση του ψηφοδελτίου της Λαϊκής Συσπείρωσης Αθήνας στην 5η Δημοτική Κοινότητα
DESCRIPTION:Την Κυριακή 3 Σεπτέμβρη στις 7 μ.μ.\, θα παρευρεθεί στην παρουσίαση του ψηφοδελτίου της «Λαϊκής Συσπείρωσης» στην 5η Δημοτική Κοινότητα Αθηνών που θα γίνει στο πάρκο Φιξ με ομιλητή τον Νίκο Σοφιανό\, υποψήφιο δήμαρχο Αθηναίων.
URL:https://lsattikis.gr/event/%ce%bf-%ce%b3%ce%b9%ce%ac%ce%bd%ce%bd%ce%b7%cf%82-%cf%80%cf%81%cf%89%cf%84%ce%bf%cf%8d%ce%bb%ce%b7%cf%82-%ce%b8%ce%b1-%cf%80%ce%b1%cf%81%ce%bf%cf%85%cf%83%ce%af%ce%b1%cf%83%ce%b7-%cf%84%ce%bf%cf%85/
LOCATION:Πάρκο Φιξ\, Αθήνα\, Ελλάδα
CATEGORIES:Συγκεντρώσεις
ATTACH;FMTTYPE=image/jpeg:https://lsattikis.gr/wp-content/uploads/2023/09/laiki-sispirosi-athinas-1.jpg
END:VEVENT
BEGIN:VEVENT
DTSTART;TZID=Europe/Moscow:20230827T193000
DTEND;TZID=Europe/Moscow:20230827T193000
DTSTAMP:20260421T133942
CREATED:20230827T103645Z
LAST-MODIFIED:20230902T224125Z
UID:1980-1693164600-1693164600@lsattikis.gr
SUMMARY:Χαιρετισμός του Γιάννη Πρωτούλη στην εκδήλωση παρουσίασης των υποψήφιων της Λαϊκης Συσπείρωσης Λαυρεωτικής
DESCRIPTION:Εκδήλωση παρουσίασης των υποψήφιων δημοτικών και τοπικών συμβούλων πραγματοποιεί την Κυριακή 27/08 στις 19.30 στο Θέατρο της Ρεμίζας (όπισθεν στάσης ΚΤΕΛ) στο Λαύριο\, η Λαϊκή Συσπείρωση Λαυρεωτικής. \nΧαιρετισμό θα απευθύνει ο υποψήφιος Περιφερειάρχης με τη Λαϊκή Συσπείρωση\, Γιάννης Πρωτούλης\, μέλος του ΠΓ της ΚΕ του ΚΚΕ και θα μιλήσει ο υποψήφιος Δήμαρχος Λαυρεωτικής\, Γιάννης Ανανιάδης\, μέλος της ΤΕ Μεσογείων-Λαυρεωτικής του ΚΚΕ. \nΘα γίνουν σύντομες παρεμβάσεις από υποψήφιους.
URL:https://lsattikis.gr/event/%cf%87%ce%b1%ce%b9%cf%81%ce%b5%cf%84%ce%b9%cf%83%ce%bc%cf%8c%cf%82-%cf%84%ce%bf%cf%85-%ce%b3%ce%b9%ce%ac%ce%bd%ce%bd%ce%b7-%cf%80%cf%81%cf%89%cf%84%ce%bf%cf%8d%ce%bb%ce%b7-%cf%83%cf%84%ce%b7%ce%bd/
LOCATION:Θέατρο της Ρεμίζας\, Λαύριο\, 19500\, Ελλάδα
CATEGORIES:Συγκεντρώσεις
ATTACH;FMTTYPE=image/jpeg:https://lsattikis.gr/wp-content/uploads/2023/07/4.jpg
END:VEVENT
BEGIN:VEVENT
DTSTART;TZID=Europe/Moscow:20230717T193000
DTEND;TZID=Europe/Moscow:20230717T193000
DTSTAMP:20260421T133942
CREATED:20230711T211911Z
LAST-MODIFIED:20230902T224132Z
UID:1213-1689622200-1689622200@lsattikis.gr
SUMMARY:Εκδήλωση της ΚΟ Αττικής του ΚΚΕ: "Μαζί με τον λαό της Αττικής στους αγώνες για τις ανάγκες των πολλών και όχι για τα κέρδη των λίγων" με ομιλητή τον Γιάννη Πρωτούλη
DESCRIPTION:
URL:https://lsattikis.gr/event/%ce%b5%ce%ba%ce%b4%ce%ae%ce%bb%cf%89%cf%83%ce%b7-%cf%84%ce%b7%cf%82-%ce%ba%ce%bf-%ce%b1%cf%84%cf%84%ce%b9%ce%ba%ce%ae%cf%82-%cf%84%ce%bf%cf%85-%ce%ba%ce%ba%ce%b5-%ce%bc%ce%b5-%ce%b8%ce%ad%ce%bc%ce%b1/
LOCATION:Πνευματικό Κέντρο του Δήμου Αθηναίων — Αμφιθέατρο «Α. Τρίτσης»\, Ακαδημίας 50\, είσοδος και από την οδό Σόλωνος\, Αθήνα\, Αττική\, Ελλάδα
CATEGORIES:Συγκεντρώσεις
ATTACH;FMTTYPE=image/jpeg:https://lsattikis.gr/wp-content/uploads/2023/07/IMG-bd0f57be8cb53a05798aed578f9459e5-V-e1689105002753.jpg
END:VEVENT
BEGIN:VEVENT
DTSTART;TZID=Europe/Moscow:20230713T200000
DTEND;TZID=Europe/Moscow:20230713T200000
DTSTAMP:20260421T133942
CREATED:20230711T214716Z
LAST-MODIFIED:20230902T224138Z
UID:1231-1689278400-1689278400@lsattikis.gr
SUMMARY:Σύσκεψη της Λαϊκης Συσπείρωσης Πετρούπολης | Θα μιλήσουν ο Γιαννης Πρωτουλης\, μέλος του ΠΓ της ΚΕ του ΚΚΕ και Υποψήφιος Περιφερειάρχης και ο Βαγγέλης Σίμος\, Υποψήφιος Δήμαρχος Πετρούπολης
DESCRIPTION:
URL:https://lsattikis.gr/event/%cf%83%cf%8d%cf%83%ce%ba%ce%b5%cf%88%ce%b7-%cf%84%ce%b7%cf%82-%ce%bb%ce%b1%cf%8a%ce%ba%ce%b7%cf%82-%cf%83%cf%85%cf%83%cf%80%ce%b5%ce%af%cf%81%cf%89%cf%83%ce%b7%cf%82-%cf%80%ce%b5%cf%84%cf%81%ce%bf/
LOCATION:Πνευματικό Κέντρο Πετρούπολης\, Μπουμπουλινας 59 & Αθ. Διάκου\, Πετρούπολη\, Αττικη\, Ελλάδα
CATEGORIES:Συγκεντρώσεις
ATTACH;FMTTYPE=image/jpeg:https://lsattikis.gr/wp-content/uploads/2023/07/petrcrop.jpg
END:VEVENT
END:VCALENDAR